BEGIN:VCALENDAR
VERSION:2.0
PRODID:-//McNary Golf Club - ECPv6.15.18//NONSGML v1.0//EN
CALSCALE:GREGORIAN
METHOD:PUBLISH
X-WR-CALNAME:McNary Golf Club
X-ORIGINAL-URL:https://www.mcnarygolfclub.com
X-WR-CALDESC:Events for McNary Golf Club
REFRESH-INTERVAL;VALUE=DURATION:PT1H
X-Robots-Tag:noindex
X-PUBLISHED-TTL:PT1H
BEGIN:VTIMEZONE
TZID:America/Los_Angeles
BEGIN:DAYLIGHT
TZOFFSETFROM:-0800
TZOFFSETTO:-0700
TZNAME:PDT
DTSTART:20250309T100000
END:DAYLIGHT
BEGIN:STANDARD
TZOFFSETFROM:-0700
TZOFFSETTO:-0800
TZNAME:PST
DTSTART:20251102T090000
END:STANDARD
BEGIN:DAYLIGHT
TZOFFSETFROM:-0800
TZOFFSETTO:-0700
TZNAME:PDT
DTSTART:20260308T100000
END:DAYLIGHT
BEGIN:STANDARD
TZOFFSETFROM:-0700
TZOFFSETTO:-0800
TZNAME:PST
DTSTART:20261101T090000
END:STANDARD
BEGIN:DAYLIGHT
TZOFFSETFROM:-0800
TZOFFSETTO:-0700
TZNAME:PDT
DTSTART:20270314T100000
END:DAYLIGHT
BEGIN:STANDARD
TZOFFSETFROM:-0700
TZOFFSETTO:-0800
TZNAME:PST
DTSTART:20271107T090000
END:STANDARD
END:VTIMEZONE
BEGIN:VEVENT
DTSTART;TZID=America/Los_Angeles:20260426T080000
DTEND;TZID=America/Los_Angeles:20260426T120000
DTSTAMP:20260421T032740
CREATED:20260415T183542Z
LAST-MODIFIED:20260415T183632Z
UID:1206-1777190400-1777204800@www.mcnarygolfclub.com
SUMMARY:Course Cleanup
DESCRIPTION:Member Course Cleanup
URL:https://www.mcnarygolfclub.com/calendar/course-cleanup/
END:VEVENT
BEGIN:VEVENT
DTSTART;TZID=America/Los_Angeles:20260426T100000
DTEND;TZID=America/Los_Angeles:20260426T170000
DTSTAMP:20260421T032740
CREATED:20260415T183726Z
LAST-MODIFIED:20260415T183726Z
UID:1209-1777197600-1777222800@www.mcnarygolfclub.com
SUMMARY:Golfweek Am Tour
DESCRIPTION:Golfweek Am Golf Tour
URL:https://www.mcnarygolfclub.com/calendar/golfweek-am-tour/
END:VEVENT
END:VCALENDAR